BEGIN:VCALENDAR
VERSION:2.0
PRODID:-//Oleiros.online//Agenda//ES
BEGIN:VEVENT
UID:event-281@oleiros-online
DTSTART;VALUE=DATE:20260424
DTEND;VALUE=DATE:20260427
SUMMARY:Fiestas de San Marcos en Vilanova\, Oleiros
DESCRIPTION:La parroquia de Nós en Oleiros celebra las Fiestas de San Marcos del 24 al 26 de abril con actividades como churrascada\, verbena\, misa y conciertos.
LOCATION:Parroquia de Nós\, Oleiros
END:VEVENT
END:VCALENDAR
