BEGIN:VCALENDAR
VERSION:2.0
PRODID:-//Oleiros.online//Agenda//ES
BEGIN:VEVENT
UID:event-275@oleiros-online
DTSTART;VALUE=DATE:20260423
DTEND;VALUE=DATE:20260429
SUMMARY:Apertura del plazo de matrícula en escuelas de música\, danza y teatro
DESCRIPTION:Las escuelas municipales de Oleiros han abierto el plazo de matrícula para el nuevo curso\, ofreciendo 1.165 plazas hasta el 28 de abril.
LOCATION:Concello de Oleiros
END:VEVENT
END:VCALENDAR
