BEGIN:VCALENDAR
VERSION:2.0
PRODID:-//Oleiros.online//Agenda//ES
BEGIN:VEVENT
UID:event-272@oleiros-online
DTSTART:20260523T110000
DTEND:20260523T123000
SUMMARY:Taller gratuito sobre educación para la igualdad en Oleiros
DESCRIPTION:El Anpa Bidueiro organiza un taller dirigido a familias sobre la igualdad en el hogar\, con inscripción obligatoria.
LOCATION:Auditorio As Torres
END:VEVENT
END:VCALENDAR
