BEGIN:VCALENDAR
VERSION:2.0
PRODID:-//Oleiros.online//Agenda//ES
BEGIN:VEVENT
UID:event-271@oleiros-online
DTSTART;VALUE=DATE:20260509
DTEND;VALUE=DATE:20260510
SUMMARY:Ruta familiar por la Terra Chá
DESCRIPTION:Oleiros organiza una ruta familiar en el marco del programa 'Andares por Galicia' para familias con niños de al menos 6 años con un recorrido por la Lagoa de Cospeito.
LOCATION:Lagoa de Cospeito
END:VEVENT
END:VCALENDAR
