BEGIN:VCALENDAR
VERSION:2.0
PRODID:-//Oleiros.online//Agenda//ES
BEGIN:VEVENT
UID:event-269@oleiros-online
DTSTART:20260423T110000
DTEND:20260423T120000
SUMMARY:Charla sobre regularización de migrantes en Oleiros
DESCRIPTION:El Ayuntamiento de Oleiros organiza una charla abierta sobre el proceso de regularización de personas migrantes\, incluyendo requisitos y documentación necesaria.
LOCATION:Auditorio de A Fábrica\, en Santa Cristina
END:VEVENT
END:VCALENDAR
