BEGIN:VCALENDAR
VERSION:2.0
PRODID:-//Oleiros.online//Agenda//ES
BEGIN:VEVENT
UID:event-266@oleiros-online
DTSTART;VALUE=DATE:20260423
DTEND;VALUE=DATE:20260424
SUMMARY:Faladoiro sobre mujeres indígenas en Casa Charry
DESCRIPTION:El 23 de abril\, Casa Charry acogerá un faladoiro sobre el papel de las mujeres indígenas\, con enfoque en las maya mam de Guatemala\, y su impacto en la infancia y los derechos sociales.
LOCATION:Casa Charry\, Oleiros
END:VEVENT
END:VCALENDAR
