BEGIN:VCALENDAR
VERSION:2.0
PRODID:-//Oleiros.online//Agenda//ES
BEGIN:VEVENT
UID:event-264@oleiros-online
DTSTART;VALUE=DATE:20260501
DTEND;VALUE=DATE:20260502
SUMMARY:Taller de empleo en Oleiros
DESCRIPTION:El Ayuntamiento de Oleiros promoverá un taller de empleo para contratar a 20 personas desempleadas durante el mes de mayo.
LOCATION:Centro Municipal de Formación Isaac Díaz Pardo\, Urbanización Os Regos
END:VEVENT
END:VCALENDAR
