BEGIN:VCALENDAR
VERSION:2.0
PRODID:-//Oleiros.online//Agenda//ES
BEGIN:VEVENT
UID:event-263@oleiros-online
DTSTART:20260421T100000
DTEND:20260421T110000
SUMMARY:Visitas gratuitas a exposiciones en Oleiros
DESCRIPTION:Oleiros organiza visitas gratuitas a las exposiciones 'Outras historias posibles' y 'Comedy Wildlife' en la Sede Afundación. Las inscripciones comenzarán el 21 de abril con 50 plazas disponibles.
LOCATION:Sede Afundación
END:VEVENT
END:VCALENDAR
