BEGIN:VCALENDAR
VERSION:2.0
PRODID:-//Oleiros.online//Agenda//ES
BEGIN:VEVENT
UID:event-257@oleiros-online
DTSTART:20260426T120000
DTEND:20260426T130000
SUMMARY:Festa do Libro na Rúa
DESCRIPTION:La jornada contará con presentaciones de obras\, contacontos\, teatro y música\, además de descuentos en libros de las librerías participantes.
LOCATION:Parque José Martí\, Oleiros
END:VEVENT
END:VCALENDAR
