BEGIN:VCALENDAR
VERSION:2.0
PRODID:-//Oleiros.online//Agenda//ES
BEGIN:VEVENT
UID:event-254@oleiros-online
DTSTART;VALUE=DATE:20260423
DTEND;VALUE=DATE:20260424
SUMMARY:Día Mundial del Libro en Oleiros
DESCRIPTION:Oleiros celebra el Día Mundial del Libro con exposiciones\, cuentacuentos\, talleres y diversas actividades para fomentar la lectura.
LOCATION:Bibliotecas públicas municipales de Oleiros
END:VEVENT
END:VCALENDAR
